BEGIN:VCALENDAR
VERSION:2.0
PRODID:-//St Augustine Health Ministries - ECPv6.10.2//NONSGML v1.0//EN
CALSCALE:GREGORIAN
METHOD:PUBLISH
X-WR-CALNAME:St Augustine Health Ministries
X-ORIGINAL-URL:https://staugministries.org
X-WR-CALDESC:Events for St Augustine Health Ministries
REFRESH-INTERVAL;VALUE=DURATION:PT1H
X-Robots-Tag:noindex
X-PUBLISHED-TTL:PT1H
BEGIN:VTIMEZONE
TZID:UTC
BEGIN:STANDARD
TZOFFSETFROM:+0000
TZOFFSETTO:+0000
TZNAME:UTC
DTSTART:20230101T000000
END:STANDARD
END:VTIMEZONE
BEGIN:VEVENT
DTSTART;TZID=UTC:20230918T090000
DTEND;TZID=UTC:20230918T170000
DTSTAMP:20260422T044237
CREATED:20230127T180552Z
LAST-MODIFIED:20230711T172227Z
UID:8674-1695027600-1695056400@staugministries.org
SUMMARY:2023 Charity Golf Outing
DESCRIPTION:On Monday September 18th you are invited to join us for a fun day of golf followed by a fall clambake (or steak) and auction\, all while supporting the Mission of St. Augustine Health Ministries.\n \nSt. Augustine Health Ministries has a long and successful history of meeting the needs of older adults\, the medically complex and those faced with chronic and/or life-limiting illness throughout the greater Cleveland area. St. Augustine Health Ministries is committed to serving all in need\, regardless of religion or ability to pay. 81% of those served are un/underinsured. No one is turned away for their inability to pay. \nYour generous support will be used to expand our services to at-risk individuals through the use of Telemedicine. This technology will give patients/residents important medical service access to their doctors without leaving their home/bed. Our palliative\, home health\, assisted living and ventilator nursing teams will be able to live stream high quality images and data from integrated (connected) medical devices and stream it in real time to the remote physician within minutes. \nPlease consider sponsorship\, auction donation\, round of golf with friends\, general donation or for the delicious clambake or steak! Whatever you can do will truly be appreciated and will make a difference in the lives of others! \nIf you have any questions\, please contact the Advancement office at 216.939.7711. \nPlease consider one of the many ways you can help! \n8:00 AM – Registration Start Time\n9:30 AM – Start Time\n3:00 PM – Dinner/ Clambake\nRegister online at www.birdease.com/SAHMCGO\nSponsorship Information \n 
URL:https://staugministries.org/event/2023-charity-golf-outing/
LOCATION:Sweetbriar Golf Club\, 750 Jaycox Rd\, Avon Lake\, OH\, 44102\, United States
ORGANIZER;CN="Dana Carns":MAILTO:dcarns@st-aug.org
END:VEVENT
END:VCALENDAR