BEGIN:VCALENDAR
VERSION:2.0
PRODID:-//St Augustine Health Ministries - ECPv6.10.2//NONSGML v1.0//EN
CALSCALE:GREGORIAN
METHOD:PUBLISH
X-WR-CALNAME:St Augustine Health Ministries
X-ORIGINAL-URL:https://staugministries.org
X-WR-CALDESC:Events for St Augustine Health Ministries
REFRESH-INTERVAL;VALUE=DURATION:PT1H
X-Robots-Tag:noindex
X-PUBLISHED-TTL:PT1H
BEGIN:VTIMEZONE
TZID:UTC
BEGIN:STANDARD
TZOFFSETFROM:+0000
TZOFFSETTO:+0000
TZNAME:UTC
DTSTART:20230101T000000
END:STANDARD
END:VTIMEZONE
BEGIN:VEVENT
DTSTART;TZID=UTC:20230711T113000
DTEND;TZID=UTC:20230711T133000
DTSTAMP:20260422T015645
CREATED:20230711T175625Z
LAST-MODIFIED:20230711T175625Z
UID:9300-1689075000-1689082200@staugministries.org
SUMMARY:Volunteer Appreciation Picnic
DESCRIPTION:To all our beloved St. Augustine Volunteers\, \nIt’s been a long 3+years since we’ve been able to get together to honor and thank our volunteers for the gift of time and talent that they share. To thank you for all that you do and all that you’ve done\, Join us for our… \n \n\nSt. Augustine Health Campus Parking Lot Under the Tent!\nPlease RSVP to jkijauskas@st-aug.org or 216.939.7711
URL:https://staugministries.org/event/volunteer-appreciation-picnic/
LOCATION:St. Augustine Health Campus\, 7801 Detroit Avenue\, Cleveland\, 44102\, United States
END:VEVENT
BEGIN:VEVENT
DTSTART;TZID=UTC:20230718T173000
DTEND;TZID=UTC:20230718T193000
DTSTAMP:20260422T015645
CREATED:20230711T172836Z
LAST-MODIFIED:20230711T172836Z
UID:9292-1689701400-1689708600@staugministries.org
SUMMARY:Festival Week Bingo
DESCRIPTION:Staff\, Volunteers\, Residents\, and Families!\nJoin us for Bingo\, as a part of our 2023 Festival Week!
URL:https://staugministries.org/event/festival-week-bingo/
LOCATION:St. Augustine Health Campus\, 7801 Detroit Avenue\, Cleveland\, 44102\, United States
END:VEVENT
BEGIN:VEVENT
DTSTART;TZID=UTC:20230719T170000
DTEND;TZID=UTC:20230719T190000
DTSTAMP:20260422T015645
CREATED:20230711T173401Z
LAST-MODIFIED:20230711T173429Z
UID:9294-1689786000-1689793200@staugministries.org
SUMMARY:Festival Week Music
DESCRIPTION:  \nVolunteers\, Staff\, Residents\, and Families!\nJoin us for a live performance by Kevin Conwell & the Footprints Wednesday\, July 19th from 5-7 pm!
URL:https://staugministries.org/event/festival-week-music/
LOCATION:St. Augustine Health Campus\, 7801 Detroit Avenue\, Cleveland\, 44102\, United States
END:VEVENT
BEGIN:VEVENT
DTSTART;TZID=UTC:20230720T140000
DTEND;TZID=UTC:20230720T150000
DTSTAMP:20260422T015645
CREATED:20230711T173955Z
LAST-MODIFIED:20230711T174352Z
UID:9296-1689861600-1689865200@staugministries.org
SUMMARY:Festival Week Puppies and Slushies
DESCRIPTION:Volunteers\, Staff\, Residents\, and Families\,\nJoin us and the Bright and Beautiful Therapy dogs for an afternoon of puppies and slushies!\nThursday\, July 20th – 2:00 – 3:00 pm
URL:https://staugministries.org/event/puppies-and-slushies-festival-week/
LOCATION:St. Augustine Health Campus\, 7801 Detroit Avenue\, Cleveland\, 44102\, United States
END:VEVENT
BEGIN:VEVENT
DTSTART;TZID=UTC:20230720T180000
DTEND;TZID=UTC:20230720T190000
DTSTAMP:20260422T015645
CREATED:20230711T174753Z
LAST-MODIFIED:20230711T174819Z
UID:9298-1689876000-1689879600@staugministries.org
SUMMARY:Festival Week Karaoke Night
DESCRIPTION:Volunteers\, Staff\, Residents\, and Families!\nJoin us in our karaoke night under the tent for festival week Thursday\, July 20th from 6 – 7 pm!
URL:https://staugministries.org/event/festival-week-karaoke-night/
LOCATION:St. Augustine Health Campus\, 7801 Detroit Avenue\, Cleveland\, 44102\, United States
END:VEVENT
END:VCALENDAR